BEGIN:VCALENDAR
VERSION:2.0
PRODID:-//Frauenfeld City - ECPv6.15.3//NONSGML v1.0//EN
CALSCALE:GREGORIAN
METHOD:PUBLISH
X-WR-CALNAME:Frauenfeld City
X-ORIGINAL-URL:https://ffcity.ch
X-WR-CALDESC:Veranstaltungen für Frauenfeld City
REFRESH-INTERVAL;VALUE=DURATION:PT1H
X-Robots-Tag:noindex
X-PUBLISHED-TTL:PT1H
BEGIN:VTIMEZONE
TZID:Europe/Zurich
BEGIN:DAYLIGHT
TZOFFSETFROM:+0100
TZOFFSETTO:+0200
TZNAME:CEST
DTSTART:20250330T010000
END:DAYLIGHT
BEGIN:STANDARD
TZOFFSETFROM:+0200
TZOFFSETTO:+0100
TZNAME:CET
DTSTART:20251026T010000
END:STANDARD
END:VTIMEZONE
BEGIN:VEVENT
DTSTART;TZID=Europe/Zurich:20250530T110000
DTEND;TZID=Europe/Zurich:20250531T235900
DTSTAMP:20260422T034646
CREATED:20250210T123729Z
LAST-MODIFIED:20250515T055920Z
UID:5617-1748602800-1748735940@ffcity.ch
SUMMARY:Friends of Motorbike - 10th anniversary
DESCRIPTION:10 Jahre Friends of Motorbike – Feiere mit uns! 🎉🏍️\nAn Auffahrt 2025 feiern die Friends of Motorbike ihr 10-jähriges Jubiläum – und das mit einer grossen Party! \nFreut euch auf ein abwechslungsreiches Programm für die ganze Familie:\n🎈 Hüpfburg & Spiele für die Kids\n🏆 Spannende Wettbewerbe\n🎸 Live-Konzerte & beste Unterhaltung \nFür Speis und Trank ist natürlich gesorgt – kommt vorbei und feiert mit uns! \n📅 30. & 31. Mai 2025\n📍 Schützenhaus Matzingen\n🎟 Eintritt FREI! \nDie FoM freuen sich auf euren Besuch – alle sind herzlich willkommen! 🚀🎊 \n  \n\n\n\n\n	\n	\n		Details \n		Schützenhaus Matzingen
URL:https://ffcity.ch/event/friends-of-motorbike-10th-anniversary/
LOCATION:Schützenhaus Grosswies\, Waldhof 14\, Matzingen\, 9548
CATEGORIES:Fest - Party,Feste,Konzert,Konzerte
ATTACH;FMTTYPE=image/jpeg:https://ffcity.ch/wp-content/uploads/2025/02/FB-Veranstaltung-1200x628-003.jpg
END:VEVENT
END:VCALENDAR